BEGIN:VCALENDAR
VERSION:2.0
PRODID:-//SchwÃ¤bische Landpartie - ECPv5.4.0.1//NONSGML v1.0//EN
CALSCALE:GREGORIAN
METHOD:PUBLISH
X-WR-CALNAME:SchwÃ¤bische Landpartie
X-ORIGINAL-URL:https://xn--schwbische-landpartie-81b.de
X-WR-CALDESC:Veranstaltungen fÃ¼r SchwÃ¤bische Landpartie
BEGIN:VTIMEZONE
TZID:Europe/Berlin
BEGIN:DAYLIGHT
TZOFFSETFROM:+0100
TZOFFSETTO:+0200
TZNAME:CEST
DTSTART:20250330T010000
END:DAYLIGHT
BEGIN:STANDARD
TZOFFSETFROM:+0200
TZOFFSETTO:+0100
TZNAME:CET
DTSTART:20251026T010000
END:STANDARD
END:VTIMEZONE
BEGIN:VEVENT
DTSTART;TZID=Europe/Berlin:20250621T190000
DTEND;TZID=Europe/Berlin:20250621T213000
DTSTAMP:20260421T160337
CREATED:20230116T190936Z
LAST-MODIFIED:20241220T090551Z
UID:9019-1750532400-1750541400@xn--schwbische-landpartie-81b.de
SUMMARY:Zur Sonnwend auf den Hohenstaufen
DESCRIPTION:Stimmungsvolle Abendwanderung Ã¼ber den Spielburgfels auf den Hohenstaufengipfel &#8211; gespickt mit Geschichten zum Berg\, zur Burg und ihren Herren. Mit etwas GlÃ¼ck kann man einen schÃ¶nen Sonnenuntergang erleben. \n \n  \n  \n  \nMit der AlbCard kÃ¶nnen Sie gratis teilnehmen. \n  \n  \n\n				\n				\n				\n				Termin anfragen
URL:https://xn--schwbische-landpartie-81b.de/event/zur-sonnwend-auf-den-hohenstaufen-3/
LOCATION:GÃ¶ppingen-Hohenstaufen
CATEGORIES:AlbCard
ATTACH;FMTTYPE=image/jpeg:https://xn--schwbische-landpartie-81b.de/wp-content/uploads/2019/01/Spieburg_Kerstin-Maier@kerstingetslost_photocasebfw6e5ckv5t1.jpg
END:VEVENT
END:VCALENDAR