BEGIN:VCALENDAR
VERSION:2.0
PRODID:-//SchwÃ¤bische Landpartie - ECPv5.4.0.1//NONSGML v1.0//EN
CALSCALE:GREGORIAN
METHOD:PUBLISH
X-WR-CALNAME:SchwÃ¤bische Landpartie
X-ORIGINAL-URL:https://xn--schwbische-landpartie-81b.de
X-WR-CALDESC:Veranstaltungen fÃ¼r SchwÃ¤bische Landpartie
BEGIN:VTIMEZONE
TZID:Europe/Berlin
BEGIN:DAYLIGHT
TZOFFSETFROM:+0100
TZOFFSETTO:+0200
TZNAME:CEST
DTSTART:20220327T010000
END:DAYLIGHT
BEGIN:STANDARD
TZOFFSETFROM:+0200
TZOFFSETTO:+0100
TZNAME:CET
DTSTART:20221030T010000
END:STANDARD
END:VTIMEZONE
BEGIN:VEVENT
DTSTART;TZID=Europe/Berlin:20220618T180000
DTEND;TZID=Europe/Berlin:20220618T203000
DTSTAMP:20260421T193002
CREATED:20190103T183357Z
LAST-MODIFIED:20220613T063806Z
UID:3689-1655575200-1655584200@xn--schwbische-landpartie-81b.de
SUMMARY:- abgesagt- Der Hohenstaufen - Geschichte(n) mit Aussicht
DESCRIPTION:Schon Ludwig Uhland bezeichnete den Berg als &#8222;aller schwÃ¤bischen Berge schÃ¶nster&#8220;. Was meinen Sie? Die stimmungsvolle Abendwanderung fÃ¼hrt Ã¼ber den Spielburgfelsen zum Hohenstaufengipfel. \n  \nAuf dem Gipfel des Hohenstaufens stand einst die Stammburg der Staufer und hier lÃ¤sst sich groÃŸe Geschichte mit einem fantastischen Rundblick erleben. Doch zuerst wird gewandert. Am Spielburgfels lÃ¤sst sich wunderbar die ZugehÃ¶rigkeit zur SchwÃ¤bischen Alb erkennen. Artenreiche Magerwiesen\, WacholderbÃ¼sche und Jurafels umgeben den besonderen Aussichtspunkt. Durch schÃ¶nen Buchenwald fÃ¼hrt der Weg bergan\, unterbrochen von Geschichten zum Berg und zur Burg. Lebensgeschichten groÃŸer StauferpersÃ¶nlichkeiten lassen das Mittelalter lebendig werden. \n\n				\n				\n				\n				Termin anfragen
URL:https://xn--schwbische-landpartie-81b.de/event/zur-sonnwend-auf-den-hohenstaufen-2/
LOCATION:GÃ¶ppingen-Hohenstaufen
ATTACH;FMTTYPE=image/jpeg:https://xn--schwbische-landpartie-81b.de/wp-content/uploads/2018/10/Hohenstaufen2_DSC01494.jpg
END:VEVENT
END:VCALENDAR