BEGIN:VCALENDAR
VERSION:2.0
PRODID:-//SchwÃ¤bische Landpartie - ECPv5.4.0.1//NONSGML v1.0//EN
CALSCALE:GREGORIAN
METHOD:PUBLISH
X-WR-CALNAME:SchwÃ¤bische Landpartie
X-ORIGINAL-URL:https://xn--schwbische-landpartie-81b.de
X-WR-CALDESC:Veranstaltungen fÃ¼r SchwÃ¤bische Landpartie
BEGIN:VTIMEZONE
TZID:Europe/Helsinki
BEGIN:DAYLIGHT
TZOFFSETFROM:+0200
TZOFFSETTO:+0300
TZNAME:EEST
DTSTART:20170326T010000
END:DAYLIGHT
BEGIN:STANDARD
TZOFFSETFROM:+0300
TZOFFSETTO:+0200
TZNAME:EET
DTSTART:20171029T010000
END:STANDARD
END:VTIMEZONE
BEGIN:VEVENT
DTSTART;TZID=Europe/Helsinki:20170428T150000
DTEND;TZID=Europe/Helsinki:20170428T173000
DTSTAMP:20260422T004445
CREATED:20161212T093909Z
LAST-MODIFIED:20170106T214031Z
UID:1825-1493391600-1493400600@xn--schwbische-landpartie-81b.de
SUMMARY:Zu de Goisa und ans Goldloch nach Schlooschl
DESCRIPTION:Lernen Sie die charmanten und charakterstarken Schwarzwald-Goisa kennen\, ihr Leben und ihre Besonderheiten und probieren Sie leckeren Schlattstaller ZiegenkÃ¤se. Weiter fÃ¼hrt der Weg zum sagenumwobenen Goldloch und zur Schwarzen Lauter. Durch den urigen Hangschluchtwald im BiosphÃ¤rengebiet geht&#8217;s wieder zurÃ¼ck. \nBeim Besuch der Familie Jaudas lernen Sie die charmanten und charakterstarken Schwarzwaldziegen kennen. Ihr groÃŸes Comeback haben sie hierzulande auch der Landschaftspflege zu verdanken. Denn sie lieben StrÃ¤ucher und BÃ¼sche und kÃ¶nnen so wirkungsvoll die Verbuschung der Landschaft verhindern. \nErklÃ¤rt werden auch die Besonderheiten und die Haltung der Tiere. NatÃ¼rlich gibt es auch Kostproben vom leckeren Schlattstaller ZiegenkÃ¤se.\nWeiter fÃ¼hrt der Weg durch Schlattstall zum sagenumwobenen Goldloch und zur Quelle der Schwarzen Lauter.\nDurch den urigen Hangschluchtwald und â€žSchwÃ¤bischen Dschungelâ€œ im BiosphÃ¤rengebiet geht es zum Ausgangspunkt zurÃ¼ck. \n  \n\n				\n				\n				\n				Termin anfragen
URL:https://xn--schwbische-landpartie-81b.de/event/zu-de-goisa-und-ans-goldloch-nach-schlooschl/
ATTACH;FMTTYPE=image/jpeg:https://xn--schwbische-landpartie-81b.de/wp-content/uploads/2016/10/P1000660.jpg
END:VEVENT
END:VCALENDAR