BEGIN:VCALENDAR
VERSION:2.0
PRODID:-//SchwÃ¤bische Landpartie - ECPv5.4.0.1//NONSGML v1.0//EN
CALSCALE:GREGORIAN
METHOD:PUBLISH
X-WR-CALNAME:SchwÃ¤bische Landpartie
X-ORIGINAL-URL:https://xn--schwbische-landpartie-81b.de
X-WR-CALDESC:Veranstaltungen fÃ¼r SchwÃ¤bische Landpartie
BEGIN:VTIMEZONE
TZID:Europe/Helsinki
BEGIN:DAYLIGHT
TZOFFSETFROM:+0200
TZOFFSETTO:+0300
TZNAME:EEST
DTSTART:20170326T010000
END:DAYLIGHT
BEGIN:STANDARD
TZOFFSETFROM:+0300
TZOFFSETTO:+0200
TZNAME:EET
DTSTART:20171029T010000
END:STANDARD
END:VTIMEZONE
BEGIN:VEVENT
DTSTART;TZID=Europe/Helsinki:20170608T140000
DTEND;TZID=Europe/Helsinki:20170608T160000
DTSTAMP:20260421T230303
CREATED:20161212T132742Z
LAST-MODIFIED:20170106T214720Z
UID:1810-1496930400-1496937600@xn--schwbische-landpartie-81b.de
SUMMARY:Zu Besuch im Boller Jurafangowerk
DESCRIPTION:Gehen Sie auf Fossiliensuche imÂ Ã–lschiefer-Steinbruch &#8211; es gibt immer etwas zu finden! Bei der anschlieÃŸenden Betriebsbesichtigung sehen Sie wie aus dem Ã–lschiefer feinstes Jurafango hergestellt wird. Bei Kaffee und Kuchen werden Fragen zu BehandlungsmÃ¶glichkeiten erÃ¶rtert. \n  \n\n				\n				\n				\n				Termin anfragen\n			\n  \n  \n  \nÂ  \n 
URL:https://xn--schwbische-landpartie-81b.de/event/zu-besuch-im-boller-jurafangowerk/
LOCATION:Bad Boll\, Deutschland
ATTACH;FMTTYPE=image/jpeg:https://xn--schwbische-landpartie-81b.de/wp-content/uploads/2016/10/fango.jpg
END:VEVENT
END:VCALENDAR