BEGIN:VCALENDAR
VERSION:2.0
PRODID:-//SchwÃ¤bische Landpartie - ECPv5.4.0.1//NONSGML v1.0//EN
CALSCALE:GREGORIAN
METHOD:PUBLISH
X-WR-CALNAME:SchwÃ¤bische Landpartie
X-ORIGINAL-URL:https://xn--schwbische-landpartie-81b.de
X-WR-CALDESC:Veranstaltungen fÃ¼r SchwÃ¤bische Landpartie
BEGIN:VTIMEZONE
TZID:Europe/Berlin
BEGIN:DAYLIGHT
TZOFFSETFROM:+0100
TZOFFSETTO:+0200
TZNAME:CEST
DTSTART:20260329T010000
END:DAYLIGHT
BEGIN:STANDARD
TZOFFSETFROM:+0200
TZOFFSETTO:+0100
TZNAME:CET
DTSTART:20261025T010000
END:STANDARD
END:VTIMEZONE
BEGIN:VEVENT
DTSTART;TZID=Europe/Berlin:20260614T140000
DTEND;TZID=Europe/Berlin:20260614T160000
DTSTAMP:20260421T191325
CREATED:20220225T143806Z
LAST-MODIFIED:20260415T101414Z
UID:7980-1781445600-1781452800@xn--schwbische-landpartie-81b.de
SUMMARY:WMF\, Daniel Straub und Geislingens Industrialisierung
DESCRIPTION:Erfahren Sie alles Ã¼ber die Auswirkungen der Industrialisierung in Geislingen: vom Startschuss mit dem Bau der Geislinger Steige\, als erste Bahnverbindung zur Ãœberquerung der SchwÃ¤bischen Alb\, bis in die heutige Zeit\, mit der WMF als globales Unternehmen mit Weltruf. \nDie spannende Lebensgeschichte des Geislinger FirmengrÃ¼nders Daniel Straub erzÃ¤hlt gleichzeitig die Geschichte der Industrialisierung Geislingens sowie den Beginn der Firmenhistorie der WMF. \nEntdecken Sie auÃŸerdem ganz groÃŸe Kunst aus dem Hause der WMF: die â€žParadiestÃ¼râ€œ\, eine originalgetreue Nachbildung der berÃ¼hmten ParadiestÃ¼r des Baptisteriums in Florenz! \n\nBegleiten Sie uns auf diesem Weg: unterhaltsam â€“ unerwartet â€“ anregend. \n  \n\n				\n				\n				\n				Termin anfragen
URL:https://xn--schwbische-landpartie-81b.de/event/wmf-daniel-straub-und-geislingens-industrialisierung/
LOCATION:Geislingen an der Steige\, Deutschland
ATTACH;FMTTYPE=image/jpeg:https://xn--schwbische-landpartie-81b.de/wp-content/uploads/2022/02/1913_Wuerttembergische_Metallwarenfabrik_Abb1.jpg
END:VEVENT
END:VCALENDAR