BEGIN:VCALENDAR
VERSION:2.0
PRODID:-//SchwÃ¤bische Landpartie - ECPv5.4.0.1//NONSGML v1.0//EN
CALSCALE:GREGORIAN
METHOD:PUBLISH
X-WR-CALNAME:SchwÃ¤bische Landpartie
X-ORIGINAL-URL:https://xn--schwbische-landpartie-81b.de
X-WR-CALDESC:Veranstaltungen fÃ¼r SchwÃ¤bische Landpartie
BEGIN:VTIMEZONE
TZID:Europe/Berlin
BEGIN:DAYLIGHT
TZOFFSETFROM:+0100
TZOFFSETTO:+0200
TZNAME:CEST
DTSTART:20240331T010000
END:DAYLIGHT
BEGIN:STANDARD
TZOFFSETFROM:+0200
TZOFFSETTO:+0100
TZNAME:CET
DTSTART:20241027T010000
END:STANDARD
END:VTIMEZONE
BEGIN:VEVENT
DTSTART;TZID=Europe/Berlin:20240816T180000
DTEND;TZID=Europe/Berlin:20240816T210000
DTSTAMP:20260421T231839
CREATED:20200110T190909Z
LAST-MODIFIED:20240316T161130Z
UID:4827-1723831200-1723842000@xn--schwbische-landpartie-81b.de
SUMMARY:Workout - Sonnenuntergang auf der Limburg (AlbCard)
DESCRIPTION:Der Aufstieg zum Sonnenuntergang auf den Gipfel des ehemaligen Vulkankegels Limburg ist eine kleine sportliche Herausforderung\, die mit einem herrlichen Panorama belohnt wird. Geschichte\, Geschichten und manch Wissenswertes zum Weinanbau gibt es unterwegs in kleinen â€žDosenâ€œ (Einheiten/Portionen). Ein Glas Wein am Gipfel rundet den Abend ab&#8230;mehr.. \nSchon die Kelten und spÃ¤ter die ZÃ¤hringer wussten die Besonderheit der Limburg zu schÃ¤tzen und siedelten sich auf dem weithin sichtbaren Hausberg der Weilheimer an.\nDem Albtrauf vorgelagert\,Â  mÃ¼ssen 200 HÃ¶henmeter Ã¼berwunden werden\, um den 598 m hohen Gipfel zu erreichen. Der Weg fÃ¼hrt zuerst durch Streuobstwiesen entlang der Weinberge bis zum anstiegÂ  an den freien\, weithin sichtbaren Bergkegel. Traditionel wird erÂ  teilweise von Schafen und Ziegen beweidet so wirdÂ  verhindert\, dass der magere Kalkboden verbuscht und die Limburg schlieÃŸlich verwaldet.\nAuf einem schmalen Pfad geht es hoch zum Gipfel. Grandiose Ausblicke\, Sonnenuntergang und ein Glas Wein (oder Saft) runden die Tour ab. \nBitte das Glas fÃ¼r den Wein selbst mitbringen.\nAn festes Schuhwerk\, ggf. WanderstÃ¶cke\, Sonnenschutz und GetrÃ¤nk denken!\nSehr gute Kondition und Trittsicherheit erforderlich; 200 HÃ¶henmeter. \n \n  \n  \n  \nMit der AlbCard kÃ¶nnen Sie gratis teilnehmen. \n  \n  \n\n				\n				\n				\n				Termin anfragen
URL:https://xn--schwbische-landpartie-81b.de/event/wein-und-schokolade-eine-bittersuesse-verfuehrung-am-albtrauf-2/
LOCATION:Weilheim an der Teck
CATEGORIES:AlbCard
ATTACH;FMTTYPE=image/jpeg:https://xn--schwbische-landpartie-81b.de/wp-content/uploads/2020/01/DSC05200.jpg
END:VEVENT
END:VCALENDAR