BEGIN:VCALENDAR
VERSION:2.0
PRODID:-//SchwÃ¤bische Landpartie - ECPv5.4.0.1//NONSGML v1.0//EN
CALSCALE:GREGORIAN
METHOD:PUBLISH
X-WR-CALNAME:SchwÃ¤bische Landpartie
X-ORIGINAL-URL:https://xn--schwbische-landpartie-81b.de
X-WR-CALDESC:Veranstaltungen fÃ¼r SchwÃ¤bische Landpartie
BEGIN:VTIMEZONE
TZID:Europe/Berlin
BEGIN:DAYLIGHT
TZOFFSETFROM:+0100
TZOFFSETTO:+0200
TZNAME:CEST
DTSTART:20190331T010000
END:DAYLIGHT
BEGIN:STANDARD
TZOFFSETFROM:+0200
TZOFFSETTO:+0100
TZNAME:CET
DTSTART:20191027T010000
END:STANDARD
END:VTIMEZONE
BEGIN:VEVENT
DTSTART;TZID=Europe/Berlin:20190908T100000
DTEND;TZID=Europe/Berlin:20190908T150000
DTSTAMP:20260421T225549
CREATED:20190326T145636Z
LAST-MODIFIED:20190709T102052Z
UID:3683-1567936800-1567954800@xn--schwbische-landpartie-81b.de
SUMMARY:Auf dem LÃ¶wenpfad: Filstalgucker - Ausblicke aus dem Herzen des Filstals
DESCRIPTION:Eine schÃ¶ne und aussichtsreiche Rundtour ist der LÃ¶wenpfad \&#8220;Filstalgucker\&#8220; in Geislingen an der Steige. Im Herzen des Filstals bieten sich immer wieder groÃŸartige Aussichten beispielsweise vom Geiselstein\, dem Tiroler Fels oder vom Kahlenstein. Auf halber Strecke genieÃŸen wir eine gemÃ¼tliche Einkehr in HÃ¶rners Landgasthof in TÃ¼rkheim. \n\n\n  \n\n\nDie Wanderzeit betrÃ¤gt ca. 4 Stunden zuzÃ¼glich eine Stunde Rast\, Strecke rund 13\,2 km\, +150/-150 HÃ¶henmeter. Bitte mitbringen: Wetterfeste Kleidung\, festes Schuhwerk\, evtl. WanderstÃ¶cke\, GetrÃ¤nk \n\n\n\n\n  \n\n				\n				\n				\n				Termin anfragen
URL:https://xn--schwbische-landpartie-81b.de/event/waldromantik-tour-durch-das-wilde-magen-und-verwunschene-felsental/
LOCATION:Geislingen an der Steige\, Deutschland
END:VEVENT
END:VCALENDAR