BEGIN:VCALENDAR
VERSION:2.0
PRODID:-//SchwÃ¤bische Landpartie - ECPv5.4.0.1//NONSGML v1.0//EN
CALSCALE:GREGORIAN
METHOD:PUBLISH
X-WR-CALNAME:SchwÃ¤bische Landpartie
X-ORIGINAL-URL:https://xn--schwbische-landpartie-81b.de
X-WR-CALDESC:Veranstaltungen fÃ¼r SchwÃ¤bische Landpartie
BEGIN:VTIMEZONE
TZID:Europe/Berlin
BEGIN:DAYLIGHT
TZOFFSETFROM:+0100
TZOFFSETTO:+0200
TZNAME:CEST
DTSTART:20250330T010000
END:DAYLIGHT
BEGIN:STANDARD
TZOFFSETFROM:+0200
TZOFFSETTO:+0100
TZNAME:CET
DTSTART:20251026T010000
END:STANDARD
END:VTIMEZONE
BEGIN:VEVENT
DTSTART;TZID=Europe/Berlin:20250809T150000
DTEND;TZID=Europe/Berlin:20250809T180000
DTSTAMP:20260422T040229
CREATED:20250623T130247Z
LAST-MODIFIED:20250807T085030Z
UID:10617-1754751600-1754762400@xn--schwbische-landpartie-81b.de
SUMMARY:Wacholderheide am Burren â€“ ein Streifzug durch die Pflanzenwelt - ABGESAGT!
DESCRIPTION:Manches â€žGschichtleâ€œ zu Wacholder\, Silberdistel und Co. ist erstaunlich lÃ¤sst uns ahnen\, wie wichtig diese Pflanzenwelt auf der Alb war und heute noch ist. Sei es wegen der speziellen Aromen\, die WÃ¼rze und Gesundheit in unseren Alltag bringen oder als â€žHotspotâ€œ der Insektenwelt. Lassen Sie sich von der Vielfalt verfÃ¼hren. Auch der Ausblick zu den drei Kaiserbergen ist ein Genuss. \nKondition erforderlich! Bitte an festes Schuhwerk\, wetterfeste Kleidung\, ggf. WanderstÃ¶cke\, Sonnenschutz und GetrÃ¤nk denken!Â  Â  Wegstrecke ca. 6 km/ ca. 200 HÃ¶henmeter \n\n				\n				\n				\n				Termin anfragen\n			\n 
URL:https://xn--schwbische-landpartie-81b.de/event/wacholderheide-am-burren-ein-streifzug-durch-die-pflanzenwelt-4/
LOCATION:Bad Ãœberkingen-UnterbÃ¶hringen
ATTACH;FMTTYPE=image/jpeg:https://xn--schwbische-landpartie-81b.de/wp-content/uploads/20240608_Burren-scaled.jpg
END:VEVENT
END:VCALENDAR