BEGIN:VCALENDAR
VERSION:2.0
PRODID:-//Schwäbische Landpartie - ECPv5.4.0.1//NONSGML v1.0//EN
CALSCALE:GREGORIAN
METHOD:PUBLISH
X-WR-CALNAME:Schwäbische Landpartie
X-ORIGINAL-URL:https://xn--schwbische-landpartie-81b.de
X-WR-CALDESC:Veranstaltungen für Schwäbische Landpartie
BEGIN:VTIMEZONE
TZID:Europe/Berlin
BEGIN:DAYLIGHT
TZOFFSETFROM:+0100
TZOFFSETTO:+0200
TZNAME:CEST
DTSTART:20260329T010000
END:DAYLIGHT
BEGIN:STANDARD
TZOFFSETFROM:+0200
TZOFFSETTO:+0100
TZNAME:CET
DTSTART:20261025T010000
END:STANDARD
END:VTIMEZONE
BEGIN:VEVENT
DTSTART;TZID=Europe/Berlin:20260603T183000
DTEND;TZID=Europe/Berlin:20260603T213000
DTSTAMP:20260421T191514
CREATED:20210310T154504Z
LAST-MODIFIED:20251228T124346Z
UID:6072-1780511400-1780522200@xn--schwbische-landpartie-81b.de
SUMMARY:Sekt\, Charme und gute Laune
DESCRIPTION:…denn die Welt gehört dem\, der Sie genießt…(G.Leopardi) \nMan kann spazieren gehen\, ohne Sekt zu trinken. Man kann aber auch Sekt trinken\, ohne dabei spazieren zu gehen. Beides zusammen wird zu einem Genuss-Event der besonderen Art. \nWir verführen Sie zu einem prickelnden Spaziergang durch die heimischen Streuobstwiesen\, der nicht nur den Geschmacksinn anspricht\, sondern bei dem es auch viel Unnützes und Interessantes rund um das erfrischende und belebende Getränk zu hören gibt. \n\n				\n				\n				\n				Termin anfragen
URL:https://xn--schwbische-landpartie-81b.de/event/sekt-charme-und-gute-laune/
LOCATION:Beuren-Balzholz\, Deutschland
ATTACH;FMTTYPE=image/jpeg:https://xn--schwbische-landpartie-81b.de/wp-content/uploads/Sekt-Charme-und-gute-Laune-9-rotated.jpg
END:VEVENT
END:VCALENDAR