BEGIN:VCALENDAR
VERSION:2.0
PRODID:-//Schwäbische Landpartie - ECPv5.4.0.1//NONSGML v1.0//EN
CALSCALE:GREGORIAN
METHOD:PUBLISH
X-WR-CALNAME:Schwäbische Landpartie
X-ORIGINAL-URL:https://xn--schwbische-landpartie-81b.de
X-WR-CALDESC:Veranstaltungen für Schwäbische Landpartie
BEGIN:VTIMEZONE
TZID:Europe/Berlin
BEGIN:DAYLIGHT
TZOFFSETFROM:+0100
TZOFFSETTO:+0200
TZNAME:CEST
DTSTART:20210328T010000
END:DAYLIGHT
BEGIN:STANDARD
TZOFFSETFROM:+0200
TZOFFSETTO:+0100
TZNAME:CET
DTSTART:20211031T010000
END:STANDARD
END:VTIMEZONE
BEGIN:VEVENT
DTSTART;TZID=Europe/Berlin:20210625T180000
DTEND;TZID=Europe/Berlin:20210625T210000
DTSTAMP:20260421T211102
CREATED:20210519T084603Z
LAST-MODIFIED:20210623T070101Z
UID:6074-1624644000-1624654800@xn--schwbische-landpartie-81b.de
SUMMARY:Ausgebucht ! Sekt\, Charme und gute Laune
DESCRIPTION:…denn die Welt gehört dem\, der Sie genießt…(G.Leopardi) \nMan kann spazieren gehen\, ohne Sekt zu trinken. Man kann aber auch Sekt trinken\, ohne dabei spazieren zu gehen. Beides zusammen wird zu einem Genuss-Event der besonderen Art. \nWir verführen Sie zum einem prickelnden Spaziergang durch die heimischen Streuobstwiesen\, der nicht nur den Geschmacksinn anspricht\, sondern bei dem es auch viel Unnützes und Interessantes rund um das erfrischende und belebende Getränk zu hören gibt. \nDie Veranstaltung findet unter Einhaltung der geltenden Corona-Schutz- und Hygieneregeln statt. \n\n				\n				\n				\n				Termin anfragen
URL:https://xn--schwbische-landpartie-81b.de/event/sekt-charme-und-gute-laune-3/
LOCATION:Beuren-Balzholz\, Deutschland
ATTACH;FMTTYPE=image/jpeg:https://xn--schwbische-landpartie-81b.de/wp-content/uploads/2020/01/IMG_4055.jpg
END:VEVENT
END:VCALENDAR