BEGIN:VCALENDAR
VERSION:2.0
PRODID:-//SchwÃ¤bische Landpartie - ECPv5.4.0.1//NONSGML v1.0//EN
CALSCALE:GREGORIAN
METHOD:PUBLISH
X-WR-CALNAME:SchwÃ¤bische Landpartie
X-ORIGINAL-URL:https://xn--schwbische-landpartie-81b.de
X-WR-CALDESC:Veranstaltungen fÃ¼r SchwÃ¤bische Landpartie
BEGIN:VTIMEZONE
TZID:Europe/Berlin
BEGIN:DAYLIGHT
TZOFFSETFROM:+0100
TZOFFSETTO:+0200
TZNAME:CEST
DTSTART:20250330T010000
END:DAYLIGHT
BEGIN:STANDARD
TZOFFSETFROM:+0200
TZOFFSETTO:+0100
TZNAME:CET
DTSTART:20251026T010000
END:STANDARD
END:VTIMEZONE
BEGIN:VEVENT
DTSTART;TZID=Europe/Berlin:20250808T180000
DTEND;TZID=Europe/Berlin:20250808T210000
DTSTAMP:20260422T004153
CREATED:20210519T084443Z
LAST-MODIFIED:20250114T183353Z
UID:7312-1754676000-1754686800@xn--schwbische-landpartie-81b.de
SUMMARY:Sekt\, Charme und gute Laune
DESCRIPTION:â€¦denn die Welt gehÃ¶rt dem\, der Sie genieÃŸtâ€¦(G.Leopardi) \nMan kann spazieren gehen\, ohne Sekt zu trinken. Man kann aber auch Sekt trinken\, ohne dabei spazieren zu gehen. Beides zusammen wird zu einem Genuss-Event der besonderen Art. \nWir verfÃ¼hren Sie zum einem prickelnden Spaziergang durch die heimischen Streuobstwiesen\, der nicht nur den Geschmacksinn anspricht\, sondern bei dem es auch viel UnnÃ¼tzes und Interessantes rund um das erfrischende und belebende GetrÃ¤nk zu hÃ¶ren gibt. \n\n				\n				\n				\n				Termin anfragen\n			\n  \n 
URL:https://xn--schwbische-landpartie-81b.de/event/sekt-charme-und-gute-laune-2-2022-08-12/
LOCATION:Erkenbrechtsweiler
ATTACH;FMTTYPE=image/jpeg:https://xn--schwbische-landpartie-81b.de/wp-content/uploads/Sekt-Charme-und-gute-Laune-1-1.jpg
END:VEVENT
END:VCALENDAR