BEGIN:VCALENDAR
VERSION:2.0
PRODID:-//SchwÃ¤bische Landpartie - ECPv5.4.0.1//NONSGML v1.0//EN
CALSCALE:GREGORIAN
METHOD:PUBLISH
X-WR-CALNAME:SchwÃ¤bische Landpartie
X-ORIGINAL-URL:https://xn--schwbische-landpartie-81b.de
X-WR-CALDESC:Veranstaltungen fÃ¼r SchwÃ¤bische Landpartie
BEGIN:VTIMEZONE
TZID:Europe/Berlin
BEGIN:DAYLIGHT
TZOFFSETFROM:+0100
TZOFFSETTO:+0200
TZNAME:CEST
DTSTART:20250330T010000
END:DAYLIGHT
BEGIN:STANDARD
TZOFFSETFROM:+0200
TZOFFSETTO:+0100
TZNAME:CET
DTSTART:20251026T010000
END:STANDARD
END:VTIMEZONE
BEGIN:VEVENT
DTSTART;TZID=Europe/Berlin:20250517T140000
DTEND;TZID=Europe/Berlin:20250517T170000
DTSTAMP:20260421T160609
CREATED:20250114T184803Z
LAST-MODIFIED:20250321T170910Z
UID:10169-1747490400-1747501200@xn--schwbische-landpartie-81b.de
SUMMARY:Rund um den Kornberg (AlbCard)
DESCRIPTION:Mythen\, Legenden und manch Wissenswertes zu der charakteristischen Pflanzenwelt der SchwÃ¤bischen Alb begleiten die kleine Wanderung im Naturschutzgebiet Kornberg. \nDiese herrliche Rundtour bietet abwechslungsreiche Landschaft mit lichten HeckensÃ¤umen\, beschaulichen Wacholderheiden\, Blumenwiesen und Ã„ckern. LebensrÃ¤ume\, die eine groÃŸe Artenvielfalt beherbergen. SchÃ¶ne Ausblicke flankieren unseren Weg. Nach dem Aufstieg\, der uns rasch auf das Plateau fÃ¼hrt\, machen wir einen kleinen Abstecher zur Bertaburg und &#8222;umrunden&#8220; dann den Kornberg. Der RÃ¼ckweg fÃ¼hrt uns Ã¼ber das Kornberghaus (GetrÃ¤nkepause) zurÃ¼ck zum Ausgangspunkt. \nGehstrecke ca. 6 km; festes Schuhwerk\, Kondition und Trittsicherheit erforderlich. Bitte an GetrÃ¤nke und ggf. eine Kopfbedeckung und wetterangepasste Kleidung denken! \n \n  \n  \n  \nMit der AlbCard kÃ¶nnen Sie gratis teilnehmen. \n  \n  \n\n				\n				\n				\n				Termin anfragen
URL:https://xn--schwbische-landpartie-81b.de/event/rund-um-den-kornberg/
LOCATION:Gruibingen\, Deutschland
ATTACH;FMTTYPE=image/jpeg:https://xn--schwbische-landpartie-81b.de/wp-content/uploads/Kornberg_Ausblick_Bertaburg-scaled.jpg
END:VEVENT
END:VCALENDAR