BEGIN:VCALENDAR
VERSION:2.0
PRODID:-//Schwäbische Landpartie - ECPv5.4.0.1//NONSGML v1.0//EN
CALSCALE:GREGORIAN
METHOD:PUBLISH
X-WR-CALNAME:Schwäbische Landpartie
X-ORIGINAL-URL:https://xn--schwbische-landpartie-81b.de
X-WR-CALDESC:Veranstaltungen für Schwäbische Landpartie
BEGIN:VTIMEZONE
TZID:Europe/Berlin
BEGIN:DAYLIGHT
TZOFFSETFROM:+0100
TZOFFSETTO:+0200
TZNAME:CEST
DTSTART:20260329T010000
END:DAYLIGHT
BEGIN:STANDARD
TZOFFSETFROM:+0200
TZOFFSETTO:+0100
TZNAME:CET
DTSTART:20261025T010000
END:STANDARD
END:VTIMEZONE
BEGIN:VEVENT
DTSTART;TZID=Europe/Berlin:20260912T133000
DTEND;TZID=Europe/Berlin:20260912T170000
DTSTAMP:20260421T192051
CREATED:20260115T150138Z
LAST-MODIFIED:20260115T150353Z
UID:10733-1789219800-1789232400@xn--schwbische-landpartie-81b.de
SUMMARY:Rund um den Kornberg - Naturgenuss im "Altweibersommer"
DESCRIPTION:Lebensräume\, die eine große Artenvielfalt beherbergen. Schöne Ausblicke flankieren unseren Weg. Nach dem Aufstieg\, der uns rasch auf das Plateau führt\, machen wir einen kleinen Abstecher zur Bertaburg und „umrunden“ dann den Kornberg. Der Rückweg geht über die Kornberghütte (Getränkepause) zurück zum Ausgangspunkt. \nBitte an festes Schuhwerk\, wetterfeste Kleidung\, Sonnenschutz\, Getränk und ggf. Wanderstöcke denken! \nFür die rund 6 km lange Wanderung inkl. ca. 160 Höhenmeter sind Kondition und Trittsicherheit erforderlich. \n\n				\n				\n				\n				Termin anfragen
URL:https://xn--schwbische-landpartie-81b.de/event/rund-um-den-kornberg-naturgenuss-im-altweibersommer/
LOCATION:Gruibingen\, Deutschland
ATTACH;FMTTYPE=image/jpeg:https://xn--schwbische-landpartie-81b.de/wp-content/uploads/Kornberg_Ausblick_Bertaburg-scaled.jpg
END:VEVENT
END:VCALENDAR