BEGIN:VCALENDAR
VERSION:2.0
PRODID:-//Schwäbische Landpartie - ECPv5.4.0.1//NONSGML v1.0//EN
CALSCALE:GREGORIAN
METHOD:PUBLISH
X-WR-CALNAME:Schwäbische Landpartie
X-ORIGINAL-URL:https://xn--schwbische-landpartie-81b.de
X-WR-CALDESC:Veranstaltungen für Schwäbische Landpartie
BEGIN:VTIMEZONE
TZID:Europe/Helsinki
BEGIN:DAYLIGHT
TZOFFSETFROM:+0200
TZOFFSETTO:+0300
TZNAME:EEST
DTSTART:20160327T010000
END:DAYLIGHT
BEGIN:STANDARD
TZOFFSETFROM:+0300
TZOFFSETTO:+0200
TZNAME:EET
DTSTART:20161030T010000
END:STANDARD
END:VTIMEZONE
BEGIN:VEVENT
DTSTART;TZID=Europe/Helsinki:20160521T170000
DTEND;TZID=Europe/Helsinki:20160521T200000
DTSTAMP:20260422T060630
CREATED:20151014T151101Z
LAST-MODIFIED:20160215T154824Z
UID:173-1463850000-1463860800@xn--schwbische-landpartie-81b.de
SUMMARY:Lesewanderung - Mit dem Dichter rund ums Dorf
DESCRIPTION:Mit dem Dichter durch Feld\, Flur und Dorf. Bruno Nagel führt mit weitsichtigem Blick und poetischer Ader durch die Gemarkung Börtlingen. \nMit dem Dichter durch Feld\, Flur und Dorf. Bruno Nagel führt mit weitsichtigem Blick und poetischer Ader durch die Gemarkung Börtlingen. Mit seinen Gedichten unterm Arm werden die Begebenheiten unter die Lupe genommen und das Einheimische in seiner Sprachbehausung beheimatet. Zu dem was sich am Wegesrande abbildet und sehen lässt serviert Bruno Nagel Wortdestillate und rezitiert über Hühner Pfauen Walnussbäume Birnen Wurzeln Wolkenträume Gartenwege Albtrauffall Bienen Schnaps und Kuhstallall. Regenwürmer Zwetschgenmus Streuobstriese Bauerngruß. Mit diesen weltenbildenden Verhältnissen durch den schwäbisch ländlichen Mikrokosmos lädt Bruno Nagel auf eine ereignisreiche Wanderung ein. Unterwegs gibt es Most\, Apfelsaft und Brezeln. Die Wanderung führt vom Wasserturm einmal rund um das Dorf Börtlingen.\n\n				\n				\n				\n				Termin anfragen
URL:https://xn--schwbische-landpartie-81b.de/event/lesewanderung-mit-dem-dichter-rund-ums-dorf/
LOCATION:Börtlingen\, Deutschland
ATTACH;FMTTYPE=image/jpeg:https://xn--schwbische-landpartie-81b.de/wp-content/uploads/2015/10/Pfau_im_Dorf.jpg
END:VEVENT
END:VCALENDAR