BEGIN:VCALENDAR
VERSION:2.0
PRODID:-//Schwäbische Landpartie - ECPv5.4.0.1//NONSGML v1.0//EN
CALSCALE:GREGORIAN
METHOD:PUBLISH
X-WR-CALNAME:Schwäbische Landpartie
X-ORIGINAL-URL:https://xn--schwbische-landpartie-81b.de
X-WR-CALDESC:Veranstaltungen für Schwäbische Landpartie
BEGIN:VTIMEZONE
TZID:Europe/Helsinki
BEGIN:DAYLIGHT
TZOFFSETFROM:+0200
TZOFFSETTO:+0300
TZNAME:EEST
DTSTART:20160327T010000
END:DAYLIGHT
BEGIN:STANDARD
TZOFFSETFROM:+0300
TZOFFSETTO:+0200
TZNAME:EET
DTSTART:20161030T010000
END:STANDARD
END:VTIMEZONE
BEGIN:VEVENT
DTSTART;TZID=Europe/Helsinki:20160715T150000
DTEND;TZID=Europe/Helsinki:20160715T170000
DTSTAMP:20260422T075619
CREATED:20151023T130324Z
LAST-MODIFIED:20160107T022709Z
UID:447-1468594800-1468602000@xn--schwbische-landpartie-81b.de
SUMMARY:Kunst unterm Breitenstein - der Bildhauer Winfried Tränkner
DESCRIPTION:Der freischaffende Bildhauer Winfried Tränkner öffnet für uns sein Atelier. Hier entstehen ganz besondere Skulpturen aus Stein\, Holz und Bronze. Im Gespräch mit ihm lernt man die unterschiedlichen Facetten seiner Arbeit kennen. Dann führt ein kleiner Dorfspaziergang zu weiteren seiner Kunstwerke im Ort.\n\n				\n				\n				\n				Termin anfragen
URL:https://xn--schwbische-landpartie-81b.de/event/kunst-unterm-breitenstein-der-bildhauer-winfried-traenkner/
LOCATION:Bissingen an der Teck\, Deutschland
ATTACH;FMTTYPE=image/jpeg:https://xn--schwbische-landpartie-81b.de/wp-content/uploads/2015/10/Dorfbrunnen_Ochsenwang.jpg
END:VEVENT
END:VCALENDAR