BEGIN:VCALENDAR
VERSION:2.0
PRODID:-//SchwÃ¤bische Landpartie - ECPv5.4.0.1//NONSGML v1.0//EN
CALSCALE:GREGORIAN
METHOD:PUBLISH
X-WR-CALNAME:SchwÃ¤bische Landpartie
X-ORIGINAL-URL:https://xn--schwbische-landpartie-81b.de
X-WR-CALDESC:Veranstaltungen fÃ¼r SchwÃ¤bische Landpartie
BEGIN:VTIMEZONE
TZID:Europe/Helsinki
BEGIN:DAYLIGHT
TZOFFSETFROM:+0200
TZOFFSETTO:+0300
TZNAME:EEST
DTSTART:20160327T010000
END:DAYLIGHT
BEGIN:STANDARD
TZOFFSETFROM:+0300
TZOFFSETTO:+0200
TZNAME:EET
DTSTART:20161030T010000
END:STANDARD
END:VTIMEZONE
BEGIN:VEVENT
DTSTART;TZID=Europe/Helsinki:20161021T170000
DTEND;TZID=Europe/Helsinki:20161021T190000
DTSTAMP:20260422T112129
CREATED:20151022T074830Z
LAST-MODIFIED:20160122T165832Z
UID:433-1477069200-1477076400@xn--schwbische-landpartie-81b.de
SUMMARY:Schloss und Altstadtbummel
DESCRIPTION:Das Kirchheimer Schloss wurde als wÃ¼rttembergische Landesfestung gebaut und als Jagd- und Witwenschloss genutzt. Begleiten Sie uns durch die WohnrÃ¤ume der letzten beiden hier residierenden herzoglichen Witwen Franziska und Henriette. In der DÃ¤mmerung geht es dann durch Kirchheims Gassen. \nDas Kirchheimer Schloss wurde als wÃ¼rttembergische Landesfestung gebaut und als Jagd- und Lustschloss genutzt. SpÃ¤ter diente es bis 1856 herzoglichen Witwen als Wohnsitz. Treten Sie ein und begleiten Sie uns durch die WohnrÃ¤ume der letzten beiden herzoglichen Witwen Franziska und Henriette. Lassen Sie sich in ihre Zeit versetzen mit vielen auch amÃ¼santen Geschichten. Ein Bummel in der DÃ¤mmerung durch Kirchheims Gassen zu markanten HÃ¤usern und PlÃ¤tzen rundet diese Tour ab. \n \n\n				\n				\n				\n				Termin anfragen
URL:https://xn--schwbische-landpartie-81b.de/event/kirchheim-teck-schloss-und-altstadtbummel/
LOCATION:Kirchheim unter Teck\, Deutschland
ATTACH;FMTTYPE=image/jpeg:https://xn--schwbische-landpartie-81b.de/wp-content/uploads/2015/10/FÃ¼hrung-SchloÃŸ-Kirchheim-Ma-Int.-IMG-20150425-WA0007.jpg
END:VEVENT
END:VCALENDAR