BEGIN:VCALENDAR
VERSION:2.0
PRODID:-//SchwÃ¤bische Landpartie - ECPv5.4.0.1//NONSGML v1.0//EN
CALSCALE:GREGORIAN
METHOD:PUBLISH
X-WR-CALNAME:SchwÃ¤bische Landpartie
X-ORIGINAL-URL:https://xn--schwbische-landpartie-81b.de
X-WR-CALDESC:Veranstaltungen fÃ¼r SchwÃ¤bische Landpartie
BEGIN:VTIMEZONE
TZID:Europe/Helsinki
BEGIN:DAYLIGHT
TZOFFSETFROM:+0200
TZOFFSETTO:+0300
TZNAME:EEST
DTSTART:20170326T010000
END:DAYLIGHT
BEGIN:STANDARD
TZOFFSETFROM:+0300
TZOFFSETTO:+0200
TZNAME:EET
DTSTART:20171029T010000
END:STANDARD
END:VTIMEZONE
BEGIN:VEVENT
DTSTART;TZID=Europe/Helsinki:20170507T073000
DTEND;TZID=Europe/Helsinki:20170507T180000
DTSTAMP:20260421T231736
CREATED:20161212T094027Z
LAST-MODIFIED:20170125T120340Z
UID:1835-1494142200-1494180000@xn--schwbische-landpartie-81b.de
SUMMARY:Immer dem Wasser nach - Egau-Wasserwerk\, Itzelberger See und Brenztopf
DESCRIPTION:Ein Busausflug in Zusammenarbeit mit Fischer Omnibusreisen Weilheim. \nDas Lebenselixier Trinkwasser ist eines der am besten Ã¼berwachten Lebensmittel. Im Egauwasserwerk kann man mitverfolgen wie unser Wasser gewonnen und aufbereitet wird. Ein ganz besonderes Erlebnis ist dabei der beleuchtete Quelltopf der mit einer groÃŸen Kuppel Ã¼berdachten Buchbrunnenquelle. Mit etwas GlÃ¼ck kann man sogar einen HÃ¶hlenkrebs entdecken\, ein Hinweis auf ausgezeichnete WasserqualitÃ¤t. Nach dem Mittagessen genieÃŸen wir Wasser als Natur- und Freizeitraum â€“ bei einer Wanderung entlang des Itzelberger Sees\, der aufgestauten jungen Brenz\, nach KÃ¶nigsbronn (rund 2 km). Dort spielt die Kraft des Wassers von alters her eine groÃŸe Rolle. Bereits 1529 wurde am Brenzursprung die Wasserkraft genutzt und ein Abt des ansÃ¤ssigen Zisterzienserklosters lieÃŸ dort eine Eisenschmiede bauen. Die EisenverhÃ¼ttung ist heute Geschichte\, doch Vieles lÃ¤sst sich heute noch rund um den schÃ¶n gefassten Brenztopf\, eine der schÃ¶nsten und grÃ¶ÃŸten Karstquellen der SchwÃ¤bischen Alb\, erkunden. Nach einem kleinen Rundgang durch den beschaulichen Ort mit seinen vielen Geschlichten bleibt noch Zeit fÃ¼r eine genÃ¼ssliche Kaffeepause oder einen Biergartenbesuch. \n  \n\n				\n				\n				\n				Termin anfragen\n			\n  \n 
URL:https://xn--schwbische-landpartie-81b.de/event/immer-dem-wasser-nach-egau-wasserwerk-itzelberger-see-und-brenztopf/
LOCATION:Dischingen und KÃ¶nigsbronn
ATTACH;FMTTYPE=image/jpeg:https://xn--schwbische-landpartie-81b.de/wp-content/uploads/2016/11/Brenztopf-KÃ¶nigsbronn-GZ.jpg
END:VEVENT
END:VCALENDAR