BEGIN:VCALENDAR
VERSION:2.0
PRODID:-//SchwÃ¤bische Landpartie - ECPv5.4.0.1//NONSGML v1.0//EN
CALSCALE:GREGORIAN
METHOD:PUBLISH
X-WR-CALNAME:SchwÃ¤bische Landpartie
X-ORIGINAL-URL:https://xn--schwbische-landpartie-81b.de
X-WR-CALDESC:Veranstaltungen fÃ¼r SchwÃ¤bische Landpartie
BEGIN:VTIMEZONE
TZID:Europe/Berlin
BEGIN:DAYLIGHT
TZOFFSETFROM:+0100
TZOFFSETTO:+0200
TZNAME:CEST
DTSTART:20240331T010000
END:DAYLIGHT
BEGIN:STANDARD
TZOFFSETFROM:+0200
TZOFFSETTO:+0100
TZNAME:CET
DTSTART:20241027T010000
END:STANDARD
END:VTIMEZONE
BEGIN:VEVENT
DTSTART;TZID=Europe/Berlin:20240511T140000
DTEND;TZID=Europe/Berlin:20240511T180000
DTSTAMP:20260422T023714
CREATED:20240209T095316Z
LAST-MODIFIED:20240316T160538Z
UID:9667-1715436000-1715450400@xn--schwbische-landpartie-81b.de
SUMMARY:Malerischer Albtrauf und der "schwÃ¤bische Jungle" (AlbCard)
DESCRIPTION:SchnÃ¼ren Sie zum Beginn der Wandersaison Ihre Schuhe und genieÃŸen Sie den frÃ¼hlingshaften Albtrauf mit malerischen Ausblicken! Der abwechslungsreiche und konditionell anspruchsvolle Rundweg ist gesÃ¤umt von unterschiedlichsten LebensrÃ¤umen wie Zipfelbachschlucht und dem Bannwald am Auchtert. \nAn der ZiegelhÃ¼tte ist eine Pause mit Einkehr geplant\, bevor es dann Ã¼ber den Bannwald am Auchtert zurÃ¼ck geht. \nAuf steinigem\, steilem Pfad steigen wir durch die wilde\, einzigartigeÂ Zipfelbachschlucht zum Traufrand hinauf. Dann geht es weiter zur ZiegelhÃ¼tte. \nNach einer Einkehr geht es am Randecker Maar entlang\, einem eindrucksvollen Zeugnis des Albvulkanismus. Hier Ã¶ffnet sich ein beeindruckender Blick auf das Albvorland mit den Kaiserbergen. \nDer Abstieg erfolgt Ã¼ber eine Besonderheit: Durch den &#8222;Urwald von morgen&#8220; dem Bannwald\, steigen wir wieder hinunter ins Tal. Es ist ein ganz besonderes Erlebnis diesen &#8222;schwÃ¤bischen Jungle&#8220; zu durchwandern. \nBitte an Wanderschuhe (festes Schuhwerk)\, ggf. WanderstÃ¶cke\, Regenschutz und ausreichend GetrÃ¤nke denken! Trittsicherheit und gute Kondition sind unbedingt erforderlich!\nDiese Wanderung ist nur bei trockener Witterung mÃ¶glich. \nStrecke 7\,5 km / 310 hm \n \n  \n  \n  \nMit der AlbCard kÃ¶nnen Sie gratis teilnehmen. \n  \n  \n\n				\n				\n				\n				Termin anfragen\n			\n 
URL:https://xn--schwbische-landpartie-81b.de/event/grosses-kino-malerischer-albtrauf-und-der-urwald-von-morgen/
LOCATION:Hepsisau\, Deutschland
CATEGORIES:AlbCard
ATTACH;FMTTYPE=image/jpeg:https://xn--schwbische-landpartie-81b.de/wp-content/uploads/2020/11/Wandern-MST-DSC00081.jpg
END:VEVENT
END:VCALENDAR