BEGIN:VCALENDAR
VERSION:2.0
PRODID:-//Schwäbische Landpartie - ECPv5.4.0.1//NONSGML v1.0//EN
CALSCALE:GREGORIAN
METHOD:PUBLISH
X-WR-CALNAME:Schwäbische Landpartie
X-ORIGINAL-URL:https://xn--schwbische-landpartie-81b.de
X-WR-CALDESC:Veranstaltungen für Schwäbische Landpartie
BEGIN:VTIMEZONE
TZID:Europe/Helsinki
BEGIN:DAYLIGHT
TZOFFSETFROM:+0200
TZOFFSETTO:+0300
TZNAME:EEST
DTSTART:20230326T010000
END:DAYLIGHT
BEGIN:STANDARD
TZOFFSETFROM:+0300
TZOFFSETTO:+0200
TZNAME:EET
DTSTART:20231029T010000
END:STANDARD
END:VTIMEZONE
BEGIN:VEVENT
DTSTART;TZID=Europe/Helsinki:20230818T180000
DTEND;TZID=Europe/Helsinki:20230818T203000
DTSTAMP:20260421T210602
CREATED:20151022T080754Z
LAST-MODIFIED:20230516T095636Z
UID:438-1692381600-1692390600@xn--schwbische-landpartie-81b.de
SUMMARY:Geislingen:  Prickelnde Stadtgeschichte
DESCRIPTION:1000 Jahre Stadthistorie mit Klatsch und Tratsch … was könnte uns Geschichte lebendiger nahebringen! \nWas ist dran an den Frauengeschichten des rebellischen Dichters und Lehrers Christian Friedrich Daniel Schubart\, der auch mit seinen Diktaten von sich reden machte? \nWie konnte die klug eingefädelte Heirat des Industriepioniers Daniel Straub das Fundament für seinen Erfolg legen? \nMaria vom Bosnien\, bekannteste Frauengestalt des helfensteinischen Adelsgeschlechts\, war sie Wohltäterin oder der Verschwendungssucht verfallen? \nSpukt der kopflose Bäcker Schöttlin immer noch durch die Gassen? \nLauschen Sie humorvollen und auch schaurigen Geschichten und Anekdoten über Geislinger Persönlichkeiten vor historischer Kulisse.\nMit einem Glas Prosecco lassen wir den kurzweiligen Rundgang prickelnd ausklingen. \n\n				\n				\n				\n				Termin anfragen
URL:https://xn--schwbische-landpartie-81b.de/event/geislingen-auf-den-spuren-von-kunst-und-historie/
LOCATION:Geislingen an der Steige\, Deutschland
ATTACH;FMTTYPE=image/jpeg:https://xn--schwbische-landpartie-81b.de/wp-content/uploads/Eta-Hoffmann.jpg
END:VEVENT
END:VCALENDAR