BEGIN:VCALENDAR
VERSION:2.0
PRODID:-//SchwÃ¤bische Landpartie - ECPv5.4.0.1//NONSGML v1.0//EN
CALSCALE:GREGORIAN
METHOD:PUBLISH
X-WR-CALNAME:SchwÃ¤bische Landpartie
X-ORIGINAL-URL:https://xn--schwbische-landpartie-81b.de
X-WR-CALDESC:Veranstaltungen fÃ¼r SchwÃ¤bische Landpartie
BEGIN:VTIMEZONE
TZID:Europe/Helsinki
BEGIN:DAYLIGHT
TZOFFSETFROM:+0200
TZOFFSETTO:+0300
TZNAME:EEST
DTSTART:20160327T010000
END:DAYLIGHT
BEGIN:STANDARD
TZOFFSETFROM:+0300
TZOFFSETTO:+0200
TZNAME:EET
DTSTART:20161030T010000
END:STANDARD
END:VTIMEZONE
BEGIN:VEVENT
DTSTART;TZID=Europe/Helsinki:20160702T060000
DTEND;TZID=Europe/Helsinki:20160702T080000
DTSTAMP:20260422T060026
CREATED:20151022T075239Z
LAST-MODIFIED:20160122T172247Z
UID:435-1467439200-1467446400@xn--schwbische-landpartie-81b.de
SUMMARY:Eine Stadt erwacht
DESCRIPTION:Am frÃ¼hen Morgen durch Kirchheim bummeln\, etwas Stadtgeschichte hÃ¶ren\, die frische Brezel beim BÃ¤cker an der HintertÃ¼r abholen und oben vom Rathaus-Turm beobachten\, wie der Wochenmarkt zum Leben erwacht. \nDie Stadt Kirchheim mit ihren wunderschÃ¶nen FachwerkhÃ¤usern ist schon beeindruckend. Aber auch als Marktstadt hat sie eine lange Tradition\, die bis heute aktuell ist. Dieses macht auch den Flair der Stadt aus. Die Sonne geht auf und damit erwacht auch eine Stadt. Die BÃ¤cker schieben die Brezeln in den Ofen\, die Marktbeschicker bauen Ihre StÃ¤nde auf und alle sind gespannt auf diesen neuen Tag. Diese besondere Stimmung begleitet uns bei der FÃ¼hrung. Dazu kommen auch die Geschichten Kirchheims und der ganz besondere Blick auf die Stadt aus luftiger HÃ¶he\, vom Rathaus-Turm aus. \n \n\n				\n				\n				\n				Termin anfragen
URL:https://xn--schwbische-landpartie-81b.de/event/eine-stadt-erwacht/
LOCATION:Kirchheim unter Teck\, Deutschland
ATTACH;FMTTYPE=image/jpeg:https://xn--schwbische-landpartie-81b.de/wp-content/uploads/2015/10/Kirchheim-Teck-int-1DSCN2539.jpg
END:VEVENT
END:VCALENDAR