BEGIN:VCALENDAR
VERSION:2.0
PRODID:-//Schwäbische Landpartie - ECPv5.4.0.1//NONSGML v1.0//EN
CALSCALE:GREGORIAN
METHOD:PUBLISH
X-WR-CALNAME:Schwäbische Landpartie
X-ORIGINAL-URL:https://xn--schwbische-landpartie-81b.de
X-WR-CALDESC:Veranstaltungen für Schwäbische Landpartie
BEGIN:VTIMEZONE
TZID:Europe/Berlin
BEGIN:DAYLIGHT
TZOFFSETFROM:+0100
TZOFFSETTO:+0200
TZNAME:CEST
DTSTART:20240331T010000
END:DAYLIGHT
BEGIN:STANDARD
TZOFFSETFROM:+0200
TZOFFSETTO:+0100
TZNAME:CET
DTSTART:20241027T010000
END:STANDARD
END:VTIMEZONE
BEGIN:VEVENT
DTSTART;TZID=Europe/Berlin:20240218T110000
DTEND;TZID=Europe/Berlin:20240218T133000
DTSTAMP:20260422T061241
CREATED:20220121T203802Z
LAST-MODIFIED:20240108T210947Z
UID:7537-1708254000-1708263000@xn--schwbische-landpartie-81b.de
SUMMARY:Bieriger Frühschoppen
DESCRIPTION:Mit einem frühen Schoppen und einem Weißwurstfrühstück starten wir gut gestärkt in eine Entschleunigungs-Winterwanderung der „leckeren“ Art. \nAlle Wanderfreunde\, die auch mal ein gutes Bier beim Wandern vertragen\, sollten diese tolle Bierwanderung nicht verpassen. Auf einer rund fünf Kilometer langen Spaziergang werden wir in den Genuss kommen\, regionale Biere in fröhlicher Wandergesellschaft und wunderschöner Landschaft zu verkosten. \nEs gibt Interessantes über die Herstellung von Bier sowie den regionalen Anbau der Bierzutaten zu erfahren. Regionales Bier von der Schwäbischen Alb kann bei unserem Event erwandert und verkostet werden. Ein erfüllender Genuss auf Schusters Rappen bringt Ihnen das Grundnahrungsmittel Bier näher. Weitere ProBiererla runden diese Tour ab. An unseren „ProBierTankstellen“ gibt es auch alkoholfreie Getränke. \nFotos: kemai shots &#8211; Kerstin Maier \n\n				\n				\n				\n				Termin anfragen
URL:https://xn--schwbische-landpartie-81b.de/event/bieriger-fruehschoppen/
LOCATION:Kohlberg\, Deutschland
ATTACH;FMTTYPE=image/jpeg:https://xn--schwbische-landpartie-81b.de/wp-content/uploads/2023/01/Bierig-Re-ae5d8efe-dccc-4af6-949a-526e0a582293.jpg
END:VEVENT
END:VCALENDAR