BEGIN:VCALENDAR
VERSION:2.0
PRODID:-//Schwäbische Landpartie - ECPv5.4.0.1//NONSGML v1.0//EN
CALSCALE:GREGORIAN
METHOD:PUBLISH
X-WR-CALNAME:Schwäbische Landpartie
X-ORIGINAL-URL:https://xn--schwbische-landpartie-81b.de
X-WR-CALDESC:Veranstaltungen für Schwäbische Landpartie
BEGIN:VTIMEZONE
TZID:Europe/Berlin
BEGIN:DAYLIGHT
TZOFFSETFROM:+0100
TZOFFSETTO:+0200
TZNAME:CEST
DTSTART:20240331T010000
END:DAYLIGHT
BEGIN:STANDARD
TZOFFSETFROM:+0200
TZOFFSETTO:+0100
TZNAME:CET
DTSTART:20241027T010000
END:STANDARD
END:VTIMEZONE
BEGIN:VEVENT
DTSTART;TZID=Europe/Berlin:20240810T140000
DTEND;TZID=Europe/Berlin:20240810T173000
DTSTAMP:20260421T225217
CREATED:20190103T173314Z
LAST-MODIFIED:20231214T144321Z
UID:4065-1723298400-1723311000@xn--schwbische-landpartie-81b.de
SUMMARY:Bierige Verführung
DESCRIPTION:Diese rund 6 km kurze Nachmittagsrunde ist ein grosser Spass für alle Wanderfreunde\, denen auch ein gutes Bier als Grundnahrungsmittel nicht gleichgültig ist. Auf der Tour haben sie vielfach die Möglichkeit regionale Biere zu verkosten. Interessantes und auch Amüsantes über die Herstellung des Gerstensafts sowie den regionalen Anbau der Bierzutaten begleiten uns entlang des Weges. \nAn verschiedenen &#8222;ProBierPlätzen&#8220; warten kleine Köstlichkeiten zum Thema Bier auf den kleinen Hunger. Nach getaner Wanderung zeigt die gute schwäbische Vesperkultur mit Produkten aus der Region was sie zu bieten hat. Selbstverständlich stehen jederzeit auch nicht alkoholische Getränke bereit. Lassen Sie sich entführen! \n\n				\n				\n				\n				Termin anfragen
URL:https://xn--schwbische-landpartie-81b.de/event/bierige-verfuehrung/
LOCATION:Geislingen an der Steige\, Deutschland
ATTACH;FMTTYPE=image/jpeg:https://xn--schwbische-landpartie-81b.de/wp-content/uploads/2023/01/Bierig-Re-ae5d8efe-dccc-4af6-949a-526e0a582293.jpg
END:VEVENT
END:VCALENDAR