BEGIN:VCALENDAR
VERSION:2.0
PRODID:-//SchwÃ¤bische Landpartie - ECPv5.4.0.1//NONSGML v1.0//EN
CALSCALE:GREGORIAN
METHOD:PUBLISH
X-WR-CALNAME:SchwÃ¤bische Landpartie
X-ORIGINAL-URL:https://xn--schwbische-landpartie-81b.de
X-WR-CALDESC:Veranstaltungen fÃ¼r SchwÃ¤bische Landpartie
BEGIN:VTIMEZONE
TZID:Europe/Helsinki
BEGIN:DAYLIGHT
TZOFFSETFROM:+0200
TZOFFSETTO:+0300
TZNAME:EEST
DTSTART:20170326T010000
END:DAYLIGHT
BEGIN:STANDARD
TZOFFSETFROM:+0300
TZOFFSETTO:+0200
TZNAME:EET
DTSTART:20171029T010000
END:STANDARD
END:VTIMEZONE
BEGIN:VEVENT
DTSTART;TZID=Europe/Helsinki:20170610T223000
DTEND;TZID=Europe/Helsinki:20170611T010000
DTSTAMP:20260421T231546
CREATED:20161212T132801Z
LAST-MODIFIED:20170610T041444Z
UID:1826-1497133800-1497142800@xn--schwbische-landpartie-81b.de
SUMMARY:Ausgebucht - Bei Vollmond am Holunderbusch
DESCRIPTION:Diese Wanderung ist ausgebucht \nTermin-Ã„nderung von Freitag\, 09.06. auf Samstag\, 10.06.2017 \nEine Mondscheinwanderung durchs Hasental mit stimmungsvollen Gedichten und gruseligen Geschichten. Mit etwas GlÃ¼ck kÃ¶nnen wir das faszinierende Naturschauspiel der GlÃ¼hwÃ¼rmchen beobachten. Beim Mitternachtsmeeting genieÃŸen wir HolunderspezialitÃ¤ten. \nDer Abend dÃ¤mmert\, allmÃ¤hlich wird es Nacht\, Ruhe und Stille\, der Vollmond steht am Himmel &#8211; auf zur Mondscheinwanderung. \nDurch die nach Heu duftenden Wiesen im Hasental genieÃŸen wir die Stille und Ruhe der Nacht mit Respekt und Achtsamkeit vor der Tierwelt.\nMit etwas GlÃ¼ck kÃ¶nnen wir das faszinierende Naturschauspiel der GlÃ¼hwÃ¼rmchen &#8211; die mit ihren Lichtsignalen auf Partnersuche sind &#8211; beobachten.\nZu nÃ¤chtlicher Stunde hÃ¶ren wir im Mondschein Gedichte Ã¼ber den Mond und Gruselgeschichten. \nAm Holunderbusch angekommen\, erfahren Sie Interessantes Ã¼ber die Geschichte\, Mythologie\, Aberglauben und Weisheiten des Holunderbusches. \nBeim Mitternachtsmeeting genieÃŸen wir verschiedene HolunderspezialitÃ¤ten. \n  \n\n				\n				\n				\n				Termin anfragen
URL:https://xn--schwbische-landpartie-81b.de/event/bei-vollmond-am-holunderbusch/
ATTACH;FMTTYPE=image/jpeg:https://xn--schwbische-landpartie-81b.de/wp-content/uploads/2016/10/P1030496.jpg
END:VEVENT
END:VCALENDAR