BEGIN:VCALENDAR
VERSION:2.0
PRODID:-//Schwäbische Landpartie - ECPv5.4.0.1//NONSGML v1.0//EN
CALSCALE:GREGORIAN
METHOD:PUBLISH
X-WR-CALNAME:Schwäbische Landpartie
X-ORIGINAL-URL:https://xn--schwbische-landpartie-81b.de
X-WR-CALDESC:Veranstaltungen für Schwäbische Landpartie
BEGIN:VTIMEZONE
TZID:Europe/Berlin
BEGIN:DAYLIGHT
TZOFFSETFROM:+0100
TZOFFSETTO:+0200
TZNAME:CEST
DTSTART:20250330T010000
END:DAYLIGHT
BEGIN:STANDARD
TZOFFSETFROM:+0200
TZOFFSETTO:+0100
TZNAME:CET
DTSTART:20251026T010000
END:STANDARD
END:VTIMEZONE
BEGIN:VEVENT
DTSTART;TZID=Europe/Berlin:20250729T170000
DTEND;TZID=Europe/Berlin:20250729T193000
DTSTAMP:20260422T024155
CREATED:20250509T114007Z
LAST-MODIFIED:20250509T114529Z
UID:10593-1753808400-1753817400@xn--schwbische-landpartie-81b.de
SUMMARY:BAD BOLL – LIEBLINGSPLÄTZE\, die man gesehen haben sollte
DESCRIPTION:Warum in die Ferne schweifen? In der ganz besonderen Landschaft am Fuße der Alb gelegen hat Bad Boll viel zu bieten:\nEin Kurhaus mit großer Geschichte\, einen Literatursalon in einer Gründerzeitvilla\, urwüchsige Baumriesen und sogar ein „Tempele“. Dort „versüßen“ wir uns die wunderbare Aussicht auf die „Kaiserberge“ mit einem regionalen Probiererle. Wir zeigen Ihnen auf dieser kleinen Wanderung unsere Bad Boller Lieblingsplätze – jeder mit seiner eigenen Geschichte!\n\nGehstrecke 3\,5 km\, festes Schuhwerk erforderlich.\n\n\n				\n				\n				\n				Termin anfragen
URL:https://xn--schwbische-landpartie-81b.de/event/bad-boll-lieblingsplaetze-die-man-gesehen-haben-sollte-2/
LOCATION:Bad Boll
ATTACH;FMTTYPE=image/png:https://xn--schwbische-landpartie-81b.de/wp-content/uploads/Wandelhalle_Boll.png
END:VEVENT
END:VCALENDAR