BEGIN:VCALENDAR
VERSION:2.0
PRODID:-//Schwäbische Landpartie - ECPv5.4.0.1//NONSGML v1.0//EN
CALSCALE:GREGORIAN
METHOD:PUBLISH
X-WR-CALNAME:Schwäbische Landpartie
X-ORIGINAL-URL:https://xn--schwbische-landpartie-81b.de
X-WR-CALDESC:Veranstaltungen für Schwäbische Landpartie
BEGIN:VTIMEZONE
TZID:Europe/Berlin
BEGIN:DAYLIGHT
TZOFFSETFROM:+0100
TZOFFSETTO:+0200
TZNAME:CEST
DTSTART:20220327T010000
END:DAYLIGHT
BEGIN:STANDARD
TZOFFSETFROM:+0200
TZOFFSETTO:+0100
TZNAME:CET
DTSTART:20221030T010000
END:STANDARD
END:VTIMEZONE
BEGIN:VEVENT
DTSTART;TZID=Europe/Berlin:20220805T180000
DTEND;TZID=Europe/Berlin:20220805T203000
DTSTAMP:20260421T232020
CREATED:20220216T142527Z
LAST-MODIFIED:20220224T140402Z
UID:7821-1659722400-1659731400@xn--schwbische-landpartie-81b.de
SUMMARY:Bad Boll - die zehn schönsten Plätze
DESCRIPTION:Inmitten herrlicher Streuobstwiesen in der ganz besonderen Landschaft am Fuße der Albberge gelegen hat Bad Boll viel zu bieten: \n&#8211; ein Heilbad\, das auf das Jahr 1595 zurückgeht mit schönen und weitläufigen Kuranlagen \n&#8211; einen lebendigen Dorfmittelpunkt  mit der Stiftskirche Sankt Cyriakus \n&#8211; ein großes Tagungshaus mit einem Literatursalon \n&#8211; viele ganz besondere Betriebe und Einrichtung \n&#8211; ortsnahe Wälder\, die viele Überraschungen bergen \n&#8211; faszinierende Aussichtsplätze \nWir zeigen Ihnen auf dieser Wanderung unsere Bad Boller Lieblingsplätze – jeder mit seiner eigenen Geschichte! \nBitte an festes Schuhwerk denken! Wegstrecke ca. 3 km \n\n				\n				\n				\n				Termin anfragen
URL:https://xn--schwbische-landpartie-81b.de/event/bad-boll-die-zehn-schoensten-plaetze/
LOCATION:Bad Boll
ATTACH;FMTTYPE=image/jpeg:https://xn--schwbische-landpartie-81b.de/wp-content/uploads/2022/02/10-schoenste-Plaetze-Bad-Bolls-5.jpg
END:VEVENT
END:VCALENDAR