BEGIN:VCALENDAR
VERSION:2.0
PRODID:-//SchwÃ¤bische Landpartie - ECPv5.4.0.1//NONSGML v1.0//EN
CALSCALE:GREGORIAN
METHOD:PUBLISH
X-WR-CALNAME:SchwÃ¤bische Landpartie
X-ORIGINAL-URL:https://xn--schwbische-landpartie-81b.de
X-WR-CALDESC:Veranstaltungen fÃ¼r SchwÃ¤bische Landpartie
BEGIN:VTIMEZONE
TZID:Europe/Helsinki
BEGIN:DAYLIGHT
TZOFFSETFROM:+0200
TZOFFSETTO:+0300
TZNAME:EEST
DTSTART:20250330T010000
END:DAYLIGHT
BEGIN:STANDARD
TZOFFSETFROM:+0300
TZOFFSETTO:+0200
TZNAME:EET
DTSTART:20251026T010000
END:STANDARD
END:VTIMEZONE
BEGIN:VEVENT
DTSTART;TZID=Europe/Helsinki:20250815T180000
DTEND;TZID=Europe/Helsinki:20250815T203000
DTSTAMP:20260421T230909
CREATED:20161212T133439Z
LAST-MODIFIED:20250110T083158Z
UID:1837-1755280800-1755289800@xn--schwbische-landpartie-81b.de
SUMMARY:Abendspaziergang am Schloss Filseck
DESCRIPTION:Hoch Ã¼ber dem Filstal thront stolz das Schloss Filseck mit neu angelegtem Landschaftspark. Wir folgen demÂ  &#8222;GrÃ¼ÃŸ-Gott-Weg&#8220; bis zum idyllischen Charlottensee. ZurÃ¼ck geht es Ã¼ber einen &#8222;schwebenden&#8220; Pfad. \nVom Aussichtspunkt am Schloss Filseck schweift der atemberaubende Blick Ã¼ber GÃ¶ppingen auf die drei Kaiserberge und die Albtraufkette in die Ferne bis zum Aichelberg. Das Schloss selbst wurde in den letzten Jahren renoviert und das Umfeld liebevoll erschlossen. Im schÃ¶nen Schlosshof wird die abwechslungsreiche Geschichte lebendig. Ãœber den neu gestalteten Schlossgarten und KrÃ¤utergarten gelangt man an ein Denkmal\, das dem letzten SchlosspÃ¤chter\, Alfons Waggershauser\, gewidmet ist\, einem wahrhaft schwÃ¤bischen Original und â€žDifteleâ€œ. Beim Blick ins untere Filstal entdeckt man namhafte Industriebetriebe\, eine letzte MÃ¼hle und den Kaminschlot einer ehemaligen Gerberei. In Uhingen wird seit 1911 das kleinste BisquitgebÃ¤ck der Welt hergestellt â€“ die legendÃ¤ren Wibele. In der Idylle am Charlottensee tummeln sich WasservÃ¶gel zwischen Schilf und Teichrosen. ZurÃ¼ck geht es durch den Schlosswald\, ein StÃ¼ck auf schÃ¶nem Holzbohlenweg\, dem Schwebenden Pfad. \nStrecke: ca. 4 km\, ebene Wege \n  \n\n				\n				\n				\n				Termin anfragen\n			\n  \n 
URL:https://xn--schwbische-landpartie-81b.de/event/abendspaziergang-am-schloss-filseck/
LOCATION:Uhingen
ATTACH;FMTTYPE=image/jpeg:https://xn--schwbische-landpartie-81b.de/wp-content/uploads/2016/12/Filseck-von-KSK.jpg
END:VEVENT
END:VCALENDAR